Package: Biobase Version: 2.66.0 Command: rm -rf Biobase.buildbin-libdir && mkdir Biobase.buildbin-libdir && /Users/biocbuild/BBS/utils/build-universal.sh Biobase_2.66.0.tar.gz /Library/Frameworks/R.framework/Resources/bin/R Biobase.buildbin-libdir StartedAt: 2025-02-05 14:57:46 -0500 (Wed, 05 Feb 2025) EndedAt: 2025-02-05 14:58:00 -0500 (Wed, 05 Feb 2025) EllapsedTime: 14.9 seconds RetCode: 0 Status: OK PackageFile: Biobase_2.66.0.tgz PackageFileSize: 2.503 MiB