Package: Biobase Version: 2.66.0 Command: /Library/Frameworks/R.framework/Resources/bin/R CMD build --keep-empty-dirs --no-resave-data Biobase StartedAt: 2025-02-03 19:26:11 -0500 (Mon, 03 Feb 2025) EndedAt: 2025-02-03 19:26:36 -0500 (Mon, 03 Feb 2025) EllapsedTime: 25.0 seconds RetCode: 0 Status: OK PackageFile: Biobase_2.66.0.tar.gz PackageFileSize: 1.886 MiB