Package: Biobase Version: 2.66.0 Command: /Library/Frameworks/R.framework/Resources/bin/R CMD check --install=check:Biobase.install-out.txt --library=/Library/Frameworks/R.framework/Resources/library --no-vignettes --timings Biobase_2.66.0.tar.gz StartedAt: 2025-02-04 00:13:45 -0500 (Tue, 04 Feb 2025) EndedAt: 2025-02-04 00:16:42 -0500 (Tue, 04 Feb 2025) EllapsedTime: 176.7 seconds RetCode: 0 Status: OK CheckDir: Biobase.Rcheck Warnings: 0