Package: Biobase Version: 2.66.0 Command: chmod a+r Biobase -R && F:\biocbuild\bbs-3.20-bioc\R\bin\R.exe CMD build --keep-empty-dirs --no-resave-data Biobase StartedAt: 2025-02-03 17:43:35 -0500 (Mon, 03 Feb 2025) EndedAt: 2025-02-03 17:44:48 -0500 (Mon, 03 Feb 2025) EllapsedTime: 72.4 seconds RetCode: 0 Status: OK PackageFile: Biobase_2.66.0.tar.gz PackageFileSize: 1.715 MiB