Package: BiocBaseUtils
Version: 1.8.0
Command: /Library/Frameworks/R.framework/Resources/bin/R CMD check --install=check:BiocBaseUtils.install-out.txt --library=/Library/Frameworks/R.framework/Resources/library --no-vignettes --timings BiocBaseUtils_1.8.0.tar.gz
StartedAt: 2024-11-19 19:50:09 -0500 (Tue, 19 Nov 2024)
EndedAt: 2024-11-19 19:54:18 -0500 (Tue, 19 Nov 2024)
EllapsedTime: 248.4 seconds
RetCode: 0
Status: OK
CheckDir: BiocBaseUtils.Rcheck
Warnings: 0