Package: BiocBaseUtils Version: 1.8.0 Command: rm -rf BiocBaseUtils.buildbin-libdir && mkdir BiocBaseUtils.buildbin-libdir && /Users/biocbuild/BBS/utils/build-universal.sh BiocBaseUtils_1.8.0.tar.gz /Library/Frameworks/R.framework/Resources/bin/R BiocBaseUtils.buildbin-libdir StartedAt: 2025-02-04 12:32:03 -0500 (Tue, 04 Feb 2025) EndedAt: 2025-02-04 12:32:09 -0500 (Tue, 04 Feb 2025) EllapsedTime: 5.6 seconds RetCode: 0 Status: OK PackageFile: BiocBaseUtils_1.8.0.tgz PackageFileSize: 249.6 KiB