Package: BiocBaseUtils Version: 1.8.0 Command: /home/biocbuild/bbs-3.20-bioc/R/bin/R CMD INSTALL BiocBaseUtils StartedAt: 2025-02-03 15:13:47 -0500 (Mon, 03 Feb 2025) EndedAt: 2025-02-03 15:13:48 -0500 (Mon, 03 Feb 2025) EllapsedTime: 1.9 seconds RetCode: 0 Status: OK