Package: BiocBaseUtils
Version: 1.7.0
Command: chmod a+r BiocBaseUtils -R && C:\Users\biocbuild\bbs-3.20-bioc\R\bin\R.exe CMD build --keep-empty-dirs --no-resave-data BiocBaseUtils
StartedAt: 2024-07-15 16:44:34 -0400 (Mon, 15 Jul 2024)
EndedAt: 2024-07-15 16:44:45 -0400 (Mon, 15 Jul 2024)
EllapsedTime: 10.8 seconds
RetCode: 0
Status: OK
PackageFile: BiocBaseUtils_1.7.0.tar.gz
PackageFileSize: 224.1 <A href="http://en.wikipedia.org/wiki/KiB" target="_blank">KiB</A>