Package: BiocBook Version: 1.4.0 Command: /Library/Frameworks/R.framework/Resources/bin/R CMD build --keep-empty-dirs --no-resave-data BiocBook StartedAt: 2025-02-03 19:27:47 -0500 (Mon, 03 Feb 2025) EndedAt: 2025-02-03 19:28:25 -0500 (Mon, 03 Feb 2025) EllapsedTime: 37.7 seconds RetCode: 0 Status: OK PackageFile: BiocBook_1.4.0.tar.gz PackageFileSize: 902.7 KiB