Package: BiocBook Version: 1.4.0 Command: /home/biocbuild/R/R/bin/R CMD build --keep-empty-dirs --no-resave-data BiocBook StartedAt: 2025-02-03 22:00:19 -0000 (Mon, 03 Feb 2025) EndedAt: 2025-02-03 22:01:01 -0000 (Mon, 03 Feb 2025) EllapsedTime: 42.0 seconds RetCode: 0 Status: OK PackageFile: BiocBook_1.4.0.tar.gz PackageFileSize: 967.8 KiB