Package: BiocBook Version: 1.4.0 Command: /home/biocbuild/R/R/bin/R CMD check --install=check:BiocBook.install-out.txt --library=/home/biocbuild/R/R/site-library --no-vignettes --timings BiocBook_1.4.0.tar.gz StartedAt: 2025-02-04 04:48:19 -0000 (Tue, 04 Feb 2025) EndedAt: 2025-02-04 05:05:46 -0000 (Tue, 04 Feb 2025) EllapsedTime: 1047.1 seconds RetCode: 0 Status: OK CheckDir: BiocBook.Rcheck Warnings: 0