Package: BiocBook Version: 1.4.0 Command: /home/biocbuild/R/R/bin/R CMD INSTALL BiocBook StartedAt: 2025-02-03 20:53:57 -0000 (Mon, 03 Feb 2025) EndedAt: 2025-02-03 20:54:05 -0000 (Mon, 03 Feb 2025) EllapsedTime: 7.6 seconds RetCode: 0 Status: OK