Package: BiocCheck Version: 1.42.1 Command: rm -rf BiocCheck.buildbin-libdir && mkdir BiocCheck.buildbin-libdir && /Users/biocbuild/BBS/utils/build-universal.sh BiocCheck_1.42.1.tar.gz /Library/Frameworks/R.framework/Resources/bin/R BiocCheck.buildbin-libdir StartedAt: 2025-02-04 12:32:04 -0500 (Tue, 04 Feb 2025) EndedAt: 2025-02-04 12:32:31 -0500 (Tue, 04 Feb 2025) EllapsedTime: 26.6 seconds RetCode: 0 Status: OK PackageFile: BiocCheck_1.42.1.tgz PackageFileSize: 636.5 KiB