Package: BiocCheck Version: 1.42.1 Command: /Library/Frameworks/R.framework/Resources/bin/R CMD INSTALL BiocCheck StartedAt: 2025-02-03 15:32:34 -0500 (Mon, 03 Feb 2025) EndedAt: 2025-02-03 15:32:59 -0500 (Mon, 03 Feb 2025) EllapsedTime: 25.0 seconds RetCode: 0 Status: OK