Package: BiocFHIR Version: 1.8.0 Command: rm -rf BiocFHIR.buildbin-libdir && mkdir BiocFHIR.buildbin-libdir && /Users/biocbuild/BBS/utils/build-universal.sh BiocFHIR_1.8.0.tar.gz /Library/Frameworks/R.framework/Resources/bin/R BiocFHIR.buildbin-libdir StartedAt: 2025-02-05 14:58:13 -0500 (Wed, 05 Feb 2025) EndedAt: 2025-02-05 14:58:22 -0500 (Wed, 05 Feb 2025) EllapsedTime: 9.2 seconds RetCode: 0 Status: OK PackageFile: BiocFHIR_1.8.0.tgz PackageFileSize: 4.292 MiB