Package: BiocFHIR Version: 1.8.0 Command: /Library/Frameworks/R.framework/Resources/bin/R CMD INSTALL BiocFHIR StartedAt: 2025-02-03 16:33:20 -0500 (Mon, 03 Feb 2025) EndedAt: 2025-02-03 16:33:27 -0500 (Mon, 03 Feb 2025) EllapsedTime: 6.9 seconds RetCode: 0 Status: OK