Package: BiocFHIR Version: 1.8.0 Command: /Library/Frameworks/R.framework/Resources/bin/R CMD check --install=check:BiocFHIR.install-out.txt --library=/Library/Frameworks/R.framework/Resources/library --no-vignettes --timings BiocFHIR_1.8.0.tar.gz StartedAt: 2024-11-08 21:11:43 -0500 (Fri, 08 Nov 2024) EndedAt: 2024-11-08 21:15:53 -0500 (Fri, 08 Nov 2024) EllapsedTime: 250.4 seconds RetCode: 0 Status: OK CheckDir: BiocFHIR.Rcheck Warnings: 0