Package: BiocFHIR Version: 1.8.0 Command: /Library/Frameworks/R.framework/Resources/bin/R CMD check --install=check:BiocFHIR.install-out.txt --library=/Library/Frameworks/R.framework/Resources/library --no-vignettes --timings BiocFHIR_1.8.0.tar.gz StartedAt: 2025-02-04 00:16:12 -0500 (Tue, 04 Feb 2025) EndedAt: 2025-02-04 00:19:30 -0500 (Tue, 04 Feb 2025) EllapsedTime: 198.0 seconds RetCode: 0 Status: OK CheckDir: BiocFHIR.Rcheck Warnings: 0