Package: BiocFHIR
Version: 1.8.0
Command: chmod a+r BiocFHIR -R && F:\biocbuild\bbs-3.20-bioc\R\bin\R.exe CMD build --keep-empty-dirs --no-resave-data BiocFHIR
StartedAt: 2025-02-17 17:31:57 -0500 (Mon, 17 Feb 2025)
EndedAt: 2025-02-17 17:33:02 -0500 (Mon, 17 Feb 2025)
EllapsedTime: 65.0 seconds
RetCode: 0
Status: OK
PackageFile: BiocFHIR_1.8.0.tar.gz
PackageFileSize: 4.291 <A href="http://en.wikipedia.org/wiki/MiB" target="_blank">MiB</A>