Package: BiocFHIR Version: 1.8.0 Command: F:\biocbuild\bbs-3.20-bioc\R\bin\R.exe CMD INSTALL BiocFHIR StartedAt: 2025-02-03 15:49:28 -0500 (Mon, 03 Feb 2025) EndedAt: 2025-02-03 15:49:52 -0500 (Mon, 03 Feb 2025) EllapsedTime: 23.5 seconds RetCode: 0 Status: OK