Package: BiocFHIR Version: 1.8.0 Command: /home/biocbuild/R/R/bin/R CMD build --keep-empty-dirs --no-resave-data BiocFHIR StartedAt: 2025-02-03 22:00:41 -0000 (Mon, 03 Feb 2025) EndedAt: 2025-02-03 22:01:22 -0000 (Mon, 03 Feb 2025) EllapsedTime: 41.0 seconds RetCode: 0 Status: OK PackageFile: BiocFHIR_1.8.0.tar.gz PackageFileSize: 4.597 MiB