Package: BiocFHIR Version: 1.8.0 Command: /home/biocbuild/R/R/bin/R CMD INSTALL BiocFHIR StartedAt: 2025-02-17 20:49:47 -0000 (Mon, 17 Feb 2025) EndedAt: 2025-02-17 20:49:55 -0000 (Mon, 17 Feb 2025) EllapsedTime: 7.6 seconds RetCode: 0 Status: OK