Package: BiocFHIR
Version: 1.8.0
Command: /home/biocbuild/bbs-3.20-bioc/R/bin/R CMD INSTALL BiocFHIR
StartedAt: 2024-11-19 16:24:58 -0500 (Tue, 19 Nov 2024)
EndedAt: 2024-11-19 16:25:04 -0500 (Tue, 19 Nov 2024)
EllapsedTime: 5.2 seconds
RetCode: 0
Status: OK