Package: BiocFileCache Version: 2.14.0 Command: rm -rf BiocFileCache.buildbin-libdir && mkdir BiocFileCache.buildbin-libdir && /Users/biocbuild/BBS/utils/build-universal.sh BiocFileCache_2.14.0.tar.gz /Library/Frameworks/R.framework/Resources/bin/R BiocFileCache.buildbin-libdir StartedAt: 2025-02-04 12:32:05 -0500 (Tue, 04 Feb 2025) EndedAt: 2025-02-04 12:32:24 -0500 (Tue, 04 Feb 2025) EllapsedTime: 19.0 seconds RetCode: 0 Status: OK PackageFile: BiocFileCache_2.14.0.tgz PackageFileSize: 944.5 KiB