Package: BiocFileCache Version: 2.14.0 Command: /Library/Frameworks/R.framework/Resources/bin/R CMD build --keep-empty-dirs --no-resave-data BiocFileCache StartedAt: 2025-02-03 17:22:27 -0500 (Mon, 03 Feb 2025) EndedAt: 2025-02-03 17:24:39 -0500 (Mon, 03 Feb 2025) EllapsedTime: 131.7 seconds RetCode: 0 Status: OK PackageFile: BiocFileCache_2.14.0.tar.gz PackageFileSize: 721.9 KiB