Package: BiocFileCache Version: 2.14.0 Command: /home/biocbuild/bbs-3.20-bioc/R/bin/R CMD check --install=check:BiocFileCache.install-out.txt --library=/home/biocbuild/bbs-3.20-bioc/R/site-library --timings BiocFileCache_2.14.0.tar.gz StartedAt: 2025-02-03 20:24:31 -0500 (Mon, 03 Feb 2025) EndedAt: 2025-02-03 20:26:48 -0500 (Mon, 03 Feb 2025) EllapsedTime: 136.3 seconds RetCode: 0 Status: OK CheckDir: BiocFileCache.Rcheck Warnings: 0