##############################################################################
##############################################################################
###
### Running command:
###
###   rm -rf BiocFileCache.buildbin-libdir && mkdir BiocFileCache.buildbin-libdir && F:\biocbuild\bbs-3.20-bioc\R\bin\R.exe CMD INSTALL --build --library=BiocFileCache.buildbin-libdir BiocFileCache_2.13.0.tar.gz
###
##############################################################################
##############################################################################


* installing *source* package 'BiocFileCache' ...
** using staged installation
** R
** inst
** byte-compile and prepare package for lazy loading
** help
*** installing help indices
** building package indices
** installing vignettes
** testing if installed package can be loaded from temporary location
** testing if installed package can be loaded from final location
** testing if installed package keeps a record of temporary installation path
* MD5 sums
packaged installation of 'BiocFileCache' as BiocFileCache_2.13.0.zip
* DONE (BiocFileCache)