Package: BiocFileCache Version: 2.14.0 Command: /home/biocbuild/R/R/bin/R CMD build --keep-empty-dirs --no-resave-data BiocFileCache StartedAt: 2025-02-03 22:00:45 -0000 (Mon, 03 Feb 2025) EndedAt: 2025-02-03 22:06:27 -0000 (Mon, 03 Feb 2025) EllapsedTime: 342.1 seconds RetCode: 0 Status: OK PackageFile: BiocFileCache_2.14.0.tar.gz PackageFileSize: 795.8 KiB