Package: BiocGenerics Version: 0.52.0 Command: /Library/Frameworks/R.framework/Resources/bin/R CMD build --keep-empty-dirs --no-resave-data BiocGenerics StartedAt: 2025-01-30 19:38:16 -0500 (Thu, 30 Jan 2025) EndedAt: 2025-01-30 19:38:17 -0500 (Thu, 30 Jan 2025) EllapsedTime: 1.2 seconds RetCode: 0 Status: OK PackageFile: BiocGenerics_0.52.0.tar.gz PackageFileSize: 51.15 KiB