Package: BiocGenerics Version: 0.52.0 Command: /Library/Frameworks/R.framework/Resources/bin/R CMD INSTALL BiocGenerics StartedAt: 2025-01-30 15:03:44 -0500 (Thu, 30 Jan 2025) EndedAt: 2025-01-30 15:03:51 -0500 (Thu, 30 Jan 2025) EllapsedTime: 7.5 seconds RetCode: 0 Status: OK