Package: BiocGenerics Version: 0.52.0 Command: /Library/Frameworks/R.framework/Resources/bin/R CMD check --install=check:BiocGenerics.install-out.txt --library=/Library/Frameworks/R.framework/Resources/library --no-vignettes --timings BiocGenerics_0.52.0.tar.gz StartedAt: 2025-01-31 00:43:41 -0500 (Fri, 31 Jan 2025) EndedAt: 2025-01-31 00:45:39 -0500 (Fri, 31 Jan 2025) EllapsedTime: 117.3 seconds RetCode: 0 Status: WARNINGS CheckDir: BiocGenerics.Rcheck Warnings: 1