Package: BiocGenerics Version: 0.52.0 Command: /home/biocbuild/bbs-3.20-bioc/R/bin/R CMD check --install=check:BiocGenerics.install-out.txt --library=/home/biocbuild/bbs-3.20-bioc/R/site-library --timings BiocGenerics_0.52.0.tar.gz StartedAt: 2025-01-30 20:14:41 -0500 (Thu, 30 Jan 2025) EndedAt: 2025-01-30 20:15:27 -0500 (Thu, 30 Jan 2025) EllapsedTime: 46.1 seconds RetCode: 0 Status: WARNINGS CheckDir: BiocGenerics.Rcheck Warnings: 1