Package: BiocGenerics Version: 0.52.0 Command: rm -rf BiocGenerics.buildbin-libdir && mkdir BiocGenerics.buildbin-libdir && F:\biocbuild\bbs-3.20-bioc\R\bin\R.exe CMD INSTALL --build --library=BiocGenerics.buildbin-libdir BiocGenerics_0.52.0.tar.gz StartedAt: 2025-01-31 08:13:35 -0500 (Fri, 31 Jan 2025) EndedAt: 2025-01-31 08:17:14 -0500 (Fri, 31 Jan 2025) EllapsedTime: 218.2 seconds RetCode: 0 Status: OK PackageFile: BiocGenerics_0.52.0.zip PackageFileSize: 625.4 KiB