Package: BiocHail Version: 1.6.0 Command: /home/biocbuild/R/R/bin/R CMD build --keep-empty-dirs --no-resave-data BiocHail StartedAt: 2024-11-19 23:10:48 -0000 (Tue, 19 Nov 2024) EndedAt: 2024-11-19 23:12:08 -0000 (Tue, 19 Nov 2024) EllapsedTime: 79.1 seconds RetCode: 1 Status: ERROR PackageFile: None PackageFileSize: NA