Package: BiocIO
Version: 1.16.0
Command: /Library/Frameworks/R.framework/Resources/bin/R CMD INSTALL BiocIO
StartedAt: 2024-11-08 15:15:06 -0500 (Fri, 08 Nov 2024)
EndedAt: 2024-11-08 15:15:09 -0500 (Fri, 08 Nov 2024)
EllapsedTime: 3.0 seconds
RetCode: 0
Status: OK