Package: BiocIO
Version: 1.16.0
Command: rm -rf BiocIO.buildbin-libdir && mkdir BiocIO.buildbin-libdir && F:\biocbuild\bbs-3.20-bioc\R\bin\R.exe CMD INSTALL --build --library=BiocIO.buildbin-libdir BiocIO_1.16.0.tar.gz
StartedAt: 2025-02-18 07:40:44 -0500 (Tue, 18 Feb 2025)
EndedAt: 2025-02-18 07:41:10 -0500 (Tue, 18 Feb 2025)
EllapsedTime: 26.2 seconds
RetCode: 0
Status: OK
PackageFile: BiocIO_1.16.0.zip
PackageFileSize: 415.3 <A href="http://en.wikipedia.org/wiki/KiB" target="_blank">KiB</A>