Package: BiocIO Version: 1.16.0 Command: /home/biocbuild/R/R/bin/R CMD INSTALL BiocIO StartedAt: 2025-02-03 20:26:54 -0000 (Mon, 03 Feb 2025) EndedAt: 2025-02-03 20:27:11 -0000 (Mon, 03 Feb 2025) EllapsedTime: 16.8 seconds RetCode: 0 Status: OK