##############################################################################
##############################################################################
###
### Running command:
###
###   /home/biocbuild/R/R/bin/R CMD INSTALL BiocNeighbors
###
##############################################################################
##############################################################################


* installing to library ‘/home/biocbuild/R/R-4.4.1/site-library’
* installing *source* package ‘BiocNeighbors’ ...
** using staged installation
** libs
using C++ compiler: ‘g++ (conda-forge gcc 14.2.0-1) 14.2.0’
using C++17
g++ -std=gnu++17 -I"/home/biocbuild/R/R-4.4.1/include" -DNDEBUG -I../inst/include -I'/home/biocbuild/R/R-4.4.1/site-library/Rcpp/include' -I'/home/biocbuild/R/R-4.4.1/site-library/assorthead/include' -I/usr/local/include    -fPIC  -g -O2  -Wall  -c RcppExports.cpp -o RcppExports.o
g++ -std=gnu++17 -I"/home/biocbuild/R/R-4.4.1/include" -DNDEBUG -I../inst/include -I'/home/biocbuild/R/R-4.4.1/site-library/Rcpp/include' -I'/home/biocbuild/R/R-4.4.1/site-library/assorthead/include' -I/usr/local/include    -fPIC  -g -O2  -Wall  -c annoy.cpp -o annoy.o
g++ -std=gnu++17 -I"/home/biocbuild/R/R-4.4.1/include" -DNDEBUG -I../inst/include -I'/home/biocbuild/R/R-4.4.1/site-library/Rcpp/include' -I'/home/biocbuild/R/R-4.4.1/site-library/assorthead/include' -I/usr/local/include    -fPIC  -g -O2  -Wall  -c exhaustive.cpp -o exhaustive.o
g++ -std=gnu++17 -I"/home/biocbuild/R/R-4.4.1/include" -DNDEBUG -I../inst/include -I'/home/biocbuild/R/R-4.4.1/site-library/Rcpp/include' -I'/home/biocbuild/R/R-4.4.1/site-library/assorthead/include' -I/usr/local/include    -fPIC  -g -O2  -Wall  -c find_mutual_nns.cpp -o find_mutual_nns.o
g++ -std=gnu++17 -I"/home/biocbuild/R/R-4.4.1/include" -DNDEBUG -I../inst/include -I'/home/biocbuild/R/R-4.4.1/site-library/Rcpp/include' -I'/home/biocbuild/R/R-4.4.1/site-library/assorthead/include' -I/usr/local/include    -fPIC  -g -O2  -Wall  -c generics.cpp -o generics.o
g++ -std=gnu++17 -I"/home/biocbuild/R/R-4.4.1/include" -DNDEBUG -I../inst/include -I'/home/biocbuild/R/R-4.4.1/site-library/Rcpp/include' -I'/home/biocbuild/R/R-4.4.1/site-library/assorthead/include' -I/usr/local/include    -fPIC  -g -O2  -Wall  -c hnsw.cpp -o hnsw.o
g++ -std=gnu++17 -I"/home/biocbuild/R/R-4.4.1/include" -DNDEBUG -I../inst/include -I'/home/biocbuild/R/R-4.4.1/site-library/Rcpp/include' -I'/home/biocbuild/R/R-4.4.1/site-library/assorthead/include' -I/usr/local/include    -fPIC  -g -O2  -Wall  -c kmknn.cpp -o kmknn.o
g++ -std=gnu++17 -I"/home/biocbuild/R/R-4.4.1/include" -DNDEBUG -I../inst/include -I'/home/biocbuild/R/R-4.4.1/site-library/Rcpp/include' -I'/home/biocbuild/R/R-4.4.1/site-library/assorthead/include' -I/usr/local/include    -fPIC  -g -O2  -Wall  -c vptree.cpp -o vptree.o
g++ -std=gnu++17 -shared -L/home/biocbuild/R/R-4.4.1/lib -L/usr/local/lib -o BiocNeighbors.so RcppExports.o annoy.o exhaustive.o find_mutual_nns.o generics.o hnsw.o kmknn.o vptree.o -L/home/biocbuild/R/R-4.4.1/lib -lR
installing to /home/biocbuild/R/R-4.4.1/site-library/00LOCK-BiocNeighbors/00new/BiocNeighbors/libs
** R
** inst
** byte-compile and prepare package for lazy loading
** help
*** installing help indices
** building package indices
** installing vignettes
** testing if installed package can be loaded from temporary location
** checking absolute paths in shared objects and dynamic libraries
** testing if installed package can be loaded from final location
** testing if installed package keeps a record of temporary installation path
* DONE (BiocNeighbors)