Package: BiocNeighbors
Version: 2.0.1
Command: rm -rf BiocNeighbors.buildbin-libdir && mkdir BiocNeighbors.buildbin-libdir && /Users/biocbuild/BBS/utils/build-universal.sh BiocNeighbors_2.0.1.tar.gz /Library/Frameworks/R.framework/Resources/bin/R BiocNeighbors.buildbin-libdir
StartedAt: 2025-02-18 11:47:12 -0500 (Tue, 18 Feb 2025)
EndedAt: 2025-02-18 11:48:33 -0500 (Tue, 18 Feb 2025)
EllapsedTime: 81.1 seconds
RetCode: 0
Status: OK
PackageFile: BiocNeighbors_2.0.1.tgz
PackageFileSize: 714.4 <A href="http://en.wikipedia.org/wiki/KiB" target="_blank">KiB</A>