Package: BiocNeighbors Version: 2.0.1 Command: /Library/Frameworks/R.framework/Resources/bin/R CMD INSTALL BiocNeighbors StartedAt: 2025-02-03 15:14:01 -0500 (Mon, 03 Feb 2025) EndedAt: 2025-02-03 15:15:05 -0500 (Mon, 03 Feb 2025) EllapsedTime: 64.2 seconds RetCode: 0 Status: OK