Package: BiocNeighbors Version: 2.0.1 Command: /home/biocbuild/bbs-3.20-bioc/R/bin/R CMD check --install=check:BiocNeighbors.install-out.txt --library=/home/biocbuild/bbs-3.20-bioc/R/site-library --timings BiocNeighbors_2.0.1.tar.gz StartedAt: 2025-02-03 20:25:20 -0500 (Mon, 03 Feb 2025) EndedAt: 2025-02-03 20:26:09 -0500 (Mon, 03 Feb 2025) EllapsedTime: 49.1 seconds RetCode: 0 Status: OK CheckDir: BiocNeighbors.Rcheck Warnings: 0