Package: BiocNeighbors Version: 2.0.1 Command: /home/biocbuild/bbs-3.20-bioc/R/bin/R CMD INSTALL BiocNeighbors StartedAt: 2025-02-03 15:14:37 -0500 (Mon, 03 Feb 2025) EndedAt: 2025-02-03 15:15:18 -0500 (Mon, 03 Feb 2025) EllapsedTime: 41.9 seconds RetCode: 0 Status: OK