Package: BiocNeighbors Version: 2.0.1 Command: F:\biocbuild\bbs-3.20-bioc\R\bin\R.exe CMD INSTALL BiocNeighbors StartedAt: 2025-02-03 15:33:40 -0500 (Mon, 03 Feb 2025) EndedAt: 2025-02-03 15:35:23 -0500 (Mon, 03 Feb 2025) EllapsedTime: 103.3 seconds RetCode: 0 Status: OK