Package: BiocOncoTK Version: 1.26.0 Command: /Library/Frameworks/R.framework/Resources/bin/R CMD INSTALL BiocOncoTK StartedAt: 2025-02-03 16:44:50 -0500 (Mon, 03 Feb 2025) EndedAt: 2025-02-03 16:46:33 -0500 (Mon, 03 Feb 2025) EllapsedTime: 103.7 seconds RetCode: 0 Status: OK