Package: BiocPkgTools Version: 1.24.0 Command: /Library/Frameworks/R.framework/Resources/bin/R CMD INSTALL BiocPkgTools StartedAt: 2025-02-03 16:36:36 -0500 (Mon, 03 Feb 2025) EndedAt: 2025-02-03 16:36:48 -0500 (Mon, 03 Feb 2025) EllapsedTime: 12.1 seconds RetCode: 0 Status: OK