Package: BiocPkgTools Version: 1.24.0 Command: rm -rf BiocPkgTools.buildbin-libdir && mkdir BiocPkgTools.buildbin-libdir && F:\biocbuild\bbs-3.20-bioc\R\bin\R.exe CMD INSTALL --build --library=BiocPkgTools.buildbin-libdir BiocPkgTools_1.24.0.tar.gz StartedAt: 2025-02-04 08:03:28 -0500 (Tue, 04 Feb 2025) EndedAt: 2025-02-04 08:04:48 -0500 (Tue, 04 Feb 2025) EllapsedTime: 80.1 seconds RetCode: 0 Status: OK PackageFile: BiocPkgTools_1.24.0.zip PackageFileSize: 1.626 MiB