Package: BiocPkgTools Version: 1.24.0 Command: chmod a+r BiocPkgTools -R && F:\biocbuild\bbs-3.20-bioc\R\bin\R.exe CMD build --keep-empty-dirs --no-resave-data BiocPkgTools StartedAt: 2025-02-03 17:45:54 -0500 (Mon, 03 Feb 2025) EndedAt: 2025-02-03 17:52:44 -0500 (Mon, 03 Feb 2025) EllapsedTime: 409.9 seconds RetCode: 0 Status: OK PackageFile: BiocPkgTools_1.24.0.tar.gz PackageFileSize: 1.442 MiB