Package: BiocPkgTools Version: 1.24.0 Command: /home/biocbuild/R/R/bin/R CMD INSTALL BiocPkgTools StartedAt: 2025-02-03 20:55:21 -0000 (Mon, 03 Feb 2025) EndedAt: 2025-02-03 20:55:33 -0000 (Mon, 03 Feb 2025) EllapsedTime: 12.5 seconds RetCode: 0 Status: OK