Package: BiocSet Version: 1.20.0 Command: /Library/Frameworks/R.framework/Resources/bin/R CMD INSTALL BiocSet StartedAt: 2025-02-03 15:40:27 -0500 (Mon, 03 Feb 2025) EndedAt: 2025-02-03 15:40:37 -0500 (Mon, 03 Feb 2025) EllapsedTime: 9.9 seconds RetCode: 0 Status: OK