Package: BiocSet Version: 1.20.0 Command: /Library/Frameworks/R.framework/Resources/bin/R CMD build --keep-empty-dirs --no-resave-data BiocSet StartedAt: 2025-01-30 17:27:32 -0500 (Thu, 30 Jan 2025) EndedAt: 2025-01-30 17:36:33 -0500 (Thu, 30 Jan 2025) EllapsedTime: 541.3 seconds RetCode: 0 Status: OK PackageFile: BiocSet_1.20.0.tar.gz PackageFileSize: 359 KiB